BEGIN:VCALENDAR
VERSION:2.0
PRODID:-//Natural y Mediterranean - ECPv6.15.17.1//NONSGML v1.0//EN
CALSCALE:GREGORIAN
METHOD:PUBLISH
X-WR-CALNAME:Natural y Mediterranean
X-ORIGINAL-URL:https://naturallymediterranean.com
X-WR-CALDESC:Eventos para Natural y Mediterranean
REFRESH-INTERVAL;VALUE=DURATION:PT1H
X-Robots-Tag:noindex
X-PUBLISHED-TTL:PT1H
BEGIN:VTIMEZONE
TZID:Europe/Madrid
BEGIN:DAYLIGHT
TZOFFSETFROM:+0100
TZOFFSETTO:+0200
TZNAME:CEST
DTSTART:20250330T010000
END:DAYLIGHT
BEGIN:STANDARD
TZOFFSETFROM:+0200
TZOFFSETTO:+0100
TZNAME:CET
DTSTART:20251026T010000
END:STANDARD
BEGIN:DAYLIGHT
TZOFFSETFROM:+0100
TZOFFSETTO:+0200
TZNAME:CEST
DTSTART:20260329T010000
END:DAYLIGHT
BEGIN:STANDARD
TZOFFSETFROM:+0200
TZOFFSETTO:+0100
TZNAME:CET
DTSTART:20261025T010000
END:STANDARD
BEGIN:DAYLIGHT
TZOFFSETFROM:+0100
TZOFFSETTO:+0200
TZNAME:CEST
DTSTART:20270328T010000
END:DAYLIGHT
BEGIN:STANDARD
TZOFFSETFROM:+0200
TZOFFSETTO:+0100
TZNAME:CET
DTSTART:20271031T010000
END:STANDARD
END:VTIMEZONE
BEGIN:VEVENT
DTSTART;TZID=Europe/Madrid:20260202T080000
DTEND;TZID=Europe/Madrid:20260403T170000
DTSTAMP:20260420T065015
CREATED:20260123T190204Z
LAST-MODIFIED:20260405T192950Z
UID:761-1770019200-1775235600@naturallymediterranean.com
SUMMARY:Evento de prueba 2
DESCRIPTION:Esta es una prueba
URL:https://naturallymediterranean.com/algo/evento-de-prueba-2/
LOCATION:Hola\, Calle 112233\, Madrid\, Madrid\, 123456\, Spain
ATTACH;FMTTYPE=image/png:https://naturallymediterranean.com/wp-content/uploads/2025/10/16.png
END:VEVENT
BEGIN:VEVENT
DTSTART;TZID=Europe/Madrid:20260202T080000
DTEND;TZID=Europe/Madrid:20260401T170000
DTSTAMP:20260420T065015
CREATED:20260113T132544Z
LAST-MODIFIED:20260113T163054Z
UID:591-1770019200-1775062800@naturallymediterranean.com
SUMMARY:Evento de prueba 1
DESCRIPTION:Esta es una prueba
URL:https://naturallymediterranean.com/algo/evento-de-prueba-1/
LOCATION:Hola\, Calle 112233\, Madrid\, Madrid\, 123456\, Spain
ATTACH;FMTTYPE=image/png:https://naturallymediterranean.com/wp-content/uploads/2025/10/16.png
END:VEVENT
END:VCALENDAR